BEGIN:VCALENDAR
METHOD:PUBLISH
PRODID:-//Weblication CMS
VERSION:2.0
BEGIN:VEVENT
SUMMARY:schulfrei für alle
DTSTART;VALUE=DATE:20210513
DTEND;VALUE=DATE:20210515
DESCRIPTION:"Brücke" Auffahrt
LOCATION:
UID:http://www.schulemuehleberg.ch/schule/veranstaltungen/termine/schulfrei-fuer-alle-6.php
URL:http://www.schulemuehleberg.ch/schule/veranstaltungen/termine/schulfrei-fuer-alle-6.php
END:VEVENT
END:VCALENDAR