BEGIN:VCALENDAR
METHOD:PUBLISH
PRODID:-//Weblication CMS
VERSION:2.0
BEGIN:VEVENT
SUMMARY:schulfrei für alle
DTSTART;VALUE=DATE:20201207
DTEND;VALUE=DATE:20201208
DESCRIPTION:Unterrichtsentwicklung - schulfrei für alle Schülerinnen und Schüler. Es findet keine Tagesschule statt.
LOCATION:
UID:http://www.schulemuehleberg.ch/schule/veranstaltungen/termine/schulfrei-fuer-alle-2.php
URL:http://www.schulemuehleberg.ch/schule/veranstaltungen/termine/schulfrei-fuer-alle-2.php
END:VEVENT
END:VCALENDAR