BEGIN:VCALENDAR
METHOD:PUBLISH
PRODID:-//Weblication CMS
VERSION:2.0
BEGIN:VEVENT
SUMMARY:schulfrei für alle
DTSTART;VALUE=DATE:20230322
DTEND;VALUE=DATE:20230323
DESCRIPTION:Kiga - 9. Klasse > Fachgruppen
LOCATION:
UID:http://www.schulemuehleberg.ch/schule/veranstaltungen/termine/schulfrei-fuer-alle-10.php
URL:http://www.schulemuehleberg.ch/schule/veranstaltungen/termine/schulfrei-fuer-alle-10.php
END:VEVENT
END:VCALENDAR