BEGIN:VCALENDAR
METHOD:PUBLISH
PRODID:-//Weblication CMS
VERSION:2.0
BEGIN:VEVENT
SUMMARY:Schulfrei für alle
DTSTART;VALUE=DATE:20200909
DTEND;VALUE=DATE:20200910
DESCRIPTION:Schulfrei infolge Unterrichtsentwicklung (Weiterbildung für Lehrpersonen)
LOCATION:
UID:http://www.schulemuehleberg.ch/schule/veranstaltungen/termine/schulfrei-fuer-alle-1.php
URL:http://www.schulemuehleberg.ch/schule/veranstaltungen/termine/schulfrei-fuer-alle-1.php
END:VEVENT
END:VCALENDAR