BEGIN:VCALENDAR
METHOD:PUBLISH
PRODID:-//Weblication CMS
VERSION:2.0
BEGIN:VEVENT
SUMMARY:letzter Schultag vor den Weihnachtsferien
DTSTART;VALUE=DATE:20201224
DTEND;VALUE=DATE:20201225
DESCRIPTION:Schule bis Mittag - es findet keine Tagesschule statt.
LOCATION:
UID:http://www.schulemuehleberg.ch/schule/veranstaltungen/termine/letzter-Schultag.php
URL:http://www.schulemuehleberg.ch/schule/veranstaltungen/termine/letzter-Schultag.php
END:VEVENT
END:VCALENDAR