BEGIN:VCALENDAR
METHOD:PUBLISH
PRODID:-//Weblication CMS
VERSION:2.0
BEGIN:VEVENT
SUMMARY:schulfrei für alle
DTSTART;VALUE=DATE:20220322
DTEND;VALUE=DATE:20220323
DESCRIPTION:Kindergarten bis 9. Klasse
LOCATION:
UID:http://www.schulemuehleberg.ch/schule/veranstaltungen/termine/Schulfrei-fuer-alle.php
URL:http://www.schulemuehleberg.ch/schule/veranstaltungen/termine/Schulfrei-fuer-alle.php
END:VEVENT
END:VCALENDAR