BEGIN:VCALENDAR
METHOD:PUBLISH
PRODID:-//Weblication CMS
VERSION:2.0
BEGIN:VEVENT
SUMMARY:Schulfrei für alle
DTSTART:20260514T000000
DTEND:20260515T235959
DESCRIPTION:Auffahrt - "Brücke"
LOCATION:
UID:http://www.schulemuehleberg.ch/schule/veranstaltungen/termine/Schulfrei-fuer-alle-3.php
URL:http://www.schulemuehleberg.ch/schule/veranstaltungen/termine/Schulfrei-fuer-alle-3.php
END:VEVENT
END:VCALENDAR