BEGIN:VCALENDAR
METHOD:PUBLISH
PRODID:-//Weblication CMS
VERSION:2.0
BEGIN:VEVENT
SUMMARY:Ostermontag
DTSTART;VALUE=DATE:20210405
DTEND;VALUE=DATE:20210406
DESCRIPTION:gesetzlicher Feiertag - schulfrei für alle
LOCATION:
UID:http://www.schulemuehleberg.ch/schule/veranstaltungen/termine/Ostermontag.php
URL:http://www.schulemuehleberg.ch/schule/veranstaltungen/termine/Ostermontag.php
END:VEVENT
END:VCALENDAR