BEGIN:VCALENDAR
METHOD:PUBLISH
PRODID:-//Weblication CMS
VERSION:2.0
BEGIN:VEVENT
SUMMARY:Klippertmorgen
DTSTART:20201119T080000
DTEND:20201119T120000
DESCRIPTION:Klippert
LOCATION:
UID:http://www.schulemuehleberg.ch/schule/veranstaltungen/termine/Klippert-Kompetenztraining.php
URL:http://www.schulemuehleberg.ch/schule/veranstaltungen/termine/Klippert-Kompetenztraining.php
END:VEVENT
END:VCALENDAR