BEGIN:VCALENDAR
METHOD:PUBLISH
PRODID:-//Weblication CMS
VERSION:2.0
BEGIN:VEVENT
SUMMARY:Elternabend 1./2. Klassen
DTSTART:20230829T190000
DTEND:20230829T210000
DESCRIPTION:weitere Infos folgen
LOCATION:Allenlüften
UID:http://www.schulemuehleberg.ch/schule/veranstaltungen/termine/Elternabend-1-2-Klassen.php
URL:http://www.schulemuehleberg.ch/schule/veranstaltungen/termine/Elternabend-1-2-Klassen.php
END:VEVENT
END:VCALENDAR