BEGIN:VCALENDAR
METHOD:PUBLISH
PRODID:-//Weblication CMS
VERSION:2.0
BEGIN:VEVENT
SUMMARY:Berufswahlwoche 7.-8. Klasse
DTSTART:20231106T000000
DTEND:20231110T235959
DESCRIPTION:weitere Infos folgen
LOCATION:Allenlüften
UID:http://www.schulemuehleberg.ch/schule/veranstaltungen/termine/Berufswahlwoche-7-8-Klasse.php
URL:http://www.schulemuehleberg.ch/schule/veranstaltungen/termine/Berufswahlwoche-7-8-Klasse.php
END:VEVENT
END:VCALENDAR